BEGIN:VCALENDAR
VERSION:2.0
PRODID:-//wp-events-plugin.com//6.4.7.2//EN
TZID:Europe/Vienna
X-WR-TIMEZONE:Europe/Vienna
BEGIN:VEVENT
UID:94@bgld-bildungswerk.at
DTSTART;TZID=Europe/Vienna:20240612T180000
DTEND;TZID=Europe/Vienna:20240612T194000
DTSTAMP:20240318T130549Z
URL:https://www.bgld-bildungswerk.at/events/stress-lass-nach-entspannt-dur
 ch-den-familienalltag/
SUMMARY:Stress lass nach - entspannt durch den Familienalltag
DESCRIPTION:Stress ist ein viel verwendeter Begriff\, selten wird jedoch zw
 ischen positivem und negativem Stress unterschieden.\nDie Unterscheidung i
 st jedoch sehr wichtig. Denn positiver Stress ist mitunter förderlich fü
 r Aufmerksamkeit und Lernfähigkeit. Negativer Stress hingegen hemmt die K
 onzentrationsfähigkeit und kann gesundheitsschädlich sein.\nEin gutes St
 ressmanagement fördert das Wohlbefinden\nund die Lebensqualität\, nicht 
 nur bei Erwachsenen\,\nsondern vor allem auch bei Kindern.\nDieser Vortrag
  beschäftigt sich mit den unterschiedlichen „Stress – Qualitäten“\
 , woran man sie erkennt und damit\, wie Erwachsene ihren Kindern ein gelun
 genes Stressmanagement vorleben und beibringen können.\n\nReferentin: Mag
 . Dr. Iris Schöberl\nVerhaltensbiologin &amp\; Familienberaterin\, Entwic
 klungspsychologische Beraterin\,\nSäuglings-\, Kinder- und Elternberateri
 n\, SAFE ® Mentorin\, Systemischer Coach\,\nDipl. Lebens- und Sozialberat
 erin
ATTACH;FMTTYPE=image/jpeg:https://www.bgld-bildungswerk.at/wp-content/uplo
 ads/2024/03/Stress-lass-nach.jpg
CATEGORIES:Elternbildung
LOCATION:ONLINE\,  Online\,  ZOOM Meeting\, Österreich
X-APPLE-STRUCTURED-LOCATION;VALUE=URI;X-ADDRESS= Online\,  ZOOM Meeting\, 
 Österreich;X-APPLE-RADIUS=100;X-TITLE=ONLINE:geo:0,0
END:VEVENT
BEGIN:VTIMEZONE
TZID:Europe/Vienna
X-LIC-LOCATION:Europe/Vienna
BEGIN:DAYLIGHT
DTSTART:20240331T030000
TZOFFSETFROM:+0100
TZOFFSETTO:+0200
TZNAME:CEST
END:DAYLIGHT
END:VTIMEZONE
END:VCALENDAR