BEGIN:VCALENDAR
VERSION:2.0
PRODID:-//wp-events-plugin.com//6.4.7.2//EN
TZID:Europe/Vienna
X-WR-TIMEZONE:Europe/Vienna
BEGIN:VEVENT
UID:60@bgld-bildungswerk.at
DTSTART;TZID=Europe/Vienna:20240404T180000
DTEND;TZID=Europe/Vienna:20240404T194000
DTSTAMP:20240312T141628Z
URL:https://www.bgld-bildungswerk.at/events/sehen-verstehen-handeln-3-teil
 iger-workshop/
SUMMARY:Sehen - verstehen - handeln\, 3-teiliger Workshop
DESCRIPTION:Von der Verhaltensbeobachtung zur entwicklungsfördernden Begle
 itung von Kindern\n\nVerhalten von Kindern sehen\, Ursachen dafür versteh
 en und entsprechend handeln.\n\nReferentin: Mag. Dr. Iris Schöberl\nDipl.
  Lebens- und Sozialberaterin\, systemischer Coach\, Säuglings-\, Kinder-\
 , Jugendlichen- und Elternberaterin\, Familienberaterin\, SAFE Mentorin 
 – sichere Ausbildung für Eltern\, Verhaltens-biologin und Hundeverhalte
 nsberaterin\n\nTermine:\nDonnerstag\, 4. April 2024\nDonnerstag\, 11. Apri
 l 2024\nDonnerstag\, 18. April 2024\n\nIn dieser Workshop-Reihe werden die
  Grundlagen von Verhalten erklärt und anhand von Videoanalysen Feinzeiche
 n von Kindern besprochen. Jedes Verhalten hat eine zugrundeliegende Emotio
 n. Ändere ich die Emotionen\, so ändert sich auch das Verhalten. Dies se
 tzt jedoch voraus\, dass ich das Verhalten sehe und die Motivation dahinte
 r verstehe. Erst dann kann ich entsprechend entwicklungsfördernd handeln.
 \nHäufig geschieht es jedoch umgekehrt – es wird versucht das Verhalten
  des Kindes zu korrigieren\, ohne die zugrundeliegende Emotion zu berücks
 ichtigen. Wir denken nach „Erwachsenen-Normen“ und vergessen dabei\, d
 ass die Welt des Kindes häufig eine andere ist. Wir wünschen uns\, dass 
 sich das Kind an unsere Welt anpasst und handeln bevor wir überhaupt vers
 tanden haben\, warum sich das Kind so verhält.\nIn der Workshopreihe werd
 en daher verschiedene Erklärungsmodelle für Verhalten dargestellt und al
 terstypisches Verhalten des Kindes besprochen. Dabei werden ebenso typisch
 e Problemstellungen im Alltag aufgegriffen und auch verhaltensbeeinflussen
 de Faktoren wie Stress und Trauma werden thematisiert.
ATTACH;FMTTYPE=image/jpeg:https://www.bgld-bildungswerk.at/wp-content/uplo
 ads/2024/02/Verhaltensbeobachtung.jpg
CATEGORIES:Elternbildung
LOCATION:ONLINE\,  Online\,  ZOOM Meeting\, Österreich
X-APPLE-STRUCTURED-LOCATION;VALUE=URI;X-ADDRESS= Online\,  ZOOM Meeting\, 
 Österreich;X-APPLE-RADIUS=100;X-TITLE=ONLINE:geo:0,0
END:VEVENT
BEGIN:VTIMEZONE
TZID:Europe/Vienna
X-LIC-LOCATION:Europe/Vienna
BEGIN:DAYLIGHT
DTSTART:20240331T030000
TZOFFSETFROM:+0100
TZOFFSETTO:+0200
TZNAME:CEST
END:DAYLIGHT
END:VTIMEZONE
END:VCALENDAR