BEGIN:VCALENDAR
VERSION:2.0
PRODID:-//wp-events-plugin.com//6.4.7.2//EN
TZID:Europe/Vienna
X-WR-TIMEZONE:Europe/Vienna
BEGIN:VEVENT
UID:156@bgld-bildungswerk.at
DTSTART;TZID=Europe/Vienna:20250120T190000
DTEND;TZID=Europe/Vienna:20250120T204000
DTSTAMP:20241216T143501Z
URL:https://www.bgld-bildungswerk.at/events/rituale-und-uebergaenge/
SUMMARY:Rituale und Übergänge
DESCRIPTION:Rituale sind im Leben von Kindern und Jugendlichen essenziell w
 ichtig. Sie geben Sicherheit\, stärken das Zugehörigkeits- und Geborgenh
 eitsgefühl und unterstützen den Identitätsprozess. Übergangsrituale si
 nd dabei Rituale die deutlich machen\, dass jemand etwas Neues erreicht ha
 t – sei es der Übergang vom Kind zum Jugendlichen oder vom Jugendlichen
  zum Erwachsenen. \n\nGeorg Alexander Wagner erläutert die Unterschiede z
 wischen Gewohnheit und Ritual und wird vor allem auf Übergangsrituale in 
 der wichtigen Zeit der Pubertät näher eingehen.\n\n\nReferent: Georg Ale
 xander Wagner\nSupervisor\, Coach\, Traumapädagoge und Neurodeeskalations
 manager
ATTACH;FMTTYPE=image/jpeg:https://www.bgld-bildungswerk.at/wp-content/uplo
 ads/2024/06/Rituale-und-Uebergaenge-1.jpg
CATEGORIES:Elternbildung
LOCATION:ONLINE\,  Online\,  ZOOM Meeting\, Österreich
X-APPLE-STRUCTURED-LOCATION;VALUE=URI;X-ADDRESS= Online\,  ZOOM Meeting\, 
 Österreich;X-APPLE-RADIUS=100;X-TITLE=ONLINE:geo:0,0
END:VEVENT
BEGIN:VTIMEZONE
TZID:Europe/Vienna
X-LIC-LOCATION:Europe/Vienna
BEGIN:STANDARD
DTSTART:20241027T020000
TZOFFSETFROM:+0200
TZOFFSETTO:+0100
TZNAME:CET
END:STANDARD
END:VTIMEZONE
END:VCALENDAR