BEGIN:VCALENDAR
VERSION:2.0
PRODID:-//wp-events-plugin.com//6.4.7.2//EN
TZID:Europe/Vienna
X-WR-TIMEZONE:Europe/Vienna
BEGIN:VEVENT
UID:224@bgld-bildungswerk.at
DTSTART;TZID=Europe/Vienna:20250118T090000
DTEND;TZID=Europe/Vienna:20250118T160000
DTSTAMP:20250115T095646Z
URL:https://www.bgld-bildungswerk.at/events/naturgartenplanung-von-trocken
 staudenbeeten/
SUMMARY:Naturgartenplanung von Trockenstaudenbeeten
DESCRIPTION:Lust auf einen Naturgarten\, der nicht nur schön aussieht\, so
 ndern auch der Natur hilft? Dann sind Sie herzlich zu unserem Workshop üb
 er standortgerechte\, trockenheitsverträgliche und insektenfreundliche St
 audenpflanzen eingeladen!\nIn einer theoretischen Einführung erfahren Sie
  von „Natur im Garten Burgenland“-Experten Joachim Kugler alles Wichti
 ge über die Auswahl der richtigen Pflanzen für Ihren Garten. Anschließe
 nd haben Sie die Möglichkeit\, individuell die passenden Stauden auszuwä
 hlen\, die zu Ihrem Standort und Ihren Wünschen passen. Im praktischen Te
 il des Workshops können Sie Ihre Gestaltungsideen ausprobieren.\n\nDie Te
 ilnahme ist kostenlos!
ATTACH;FMTTYPE=image/jpeg:https://www.bgld-bildungswerk.at/wp-content/uplo
 ads/2024/12/2025-01-18-NN-Website-Eintrag.jpg
CATEGORIES:Natur im Garten
LOCATION:Eisenstadt\, Pongratzhaus\, Lionsplatz 1\, 7000 Eisenstadt\, Öste
 rreich
X-APPLE-STRUCTURED-LOCATION;VALUE=URI;X-ADDRESS=Lionsplatz 1\, 7000 Eisenst
 adt\, Österreich;X-APPLE-RADIUS=100;X-TITLE=Eisenstadt\, Pongratzhaus:geo
 :0,0
END:VEVENT
BEGIN:VTIMEZONE
TZID:Europe/Vienna
X-LIC-LOCATION:Europe/Vienna
BEGIN:STANDARD
DTSTART:20241027T020000
TZOFFSETFROM:+0200
TZOFFSETTO:+0100
TZNAME:CET
END:STANDARD
END:VTIMEZONE
END:VCALENDAR