BEGIN:VCALENDAR
VERSION:2.0
PRODID:-//wp-events-plugin.com//6.4.7.2//EN
TZID:Europe/Vienna
X-WR-TIMEZONE:Europe/Vienna
BEGIN:VEVENT
UID:293@bgld-bildungswerk.at
DTSTART;TZID=Europe/Vienna:20250403T183000
DTEND;TZID=Europe/Vienna:20250403T201000
DTSTAMP:20250306T140158Z
URL:https://www.bgld-bildungswerk.at/events/medien-die-unheimlichen-miterz
 ieher-2/
SUMMARY:Medien - die (un)heimlichen Miterzieher
DESCRIPTION:Kinder durchlaufen vom Krippen- bis zum Vorschulalter - insbeso
 ndere im sozialen Zusammensein\, in ihrer emotionalen Entwicklung und im s
 prachlichen Bereich - enorme Entwicklungsschritte. \nWelch entscheidenden 
 Einfluss darauf die modernen Medien\, v.a. der Handy- und Tabletkonsum sow
 ie das Fernsehen einnehmen können\, wird an diesem Vortragsabend beleucht
 et und aufgezeigt. \nSpielen und (Vor-)Lesen als alternative Freizeitbesch
 äftigungen sind wichtige Angebote für Kinder von 0 bis 6 Jahren. Dieser 
 altersadäquate Umgang und was Eltern wie auch Bezugspersonen dazu beitrag
 en können ist enorm wichtig für alle - von klein auf!\n\nIm Anschluss an
  den Vortrag besteht die Möglichkeit zur Diskussion und Beantwortung offe
 ner Fragen.\n\nReferentin: Mag. Doris Jäger
ATTACH;FMTTYPE=image/jpeg:https://www.bgld-bildungswerk.at/wp-content/uplo
 ads/2024/09/Digitale-Medien.jpg
CATEGORIES:Elternbildung
LOCATION:Kinderkrippe und Kindergarten Rudersdorf\, Schulgasse 1\, Rudersdo
 rf\, 7571 \, Österreich
X-APPLE-STRUCTURED-LOCATION;VALUE=URI;X-ADDRESS=Schulgasse 1\, Rudersdorf\,
  7571 \, Österreich;X-APPLE-RADIUS=100;X-TITLE=Kinderkrippe und Kindergar
 ten Rudersdorf:geo:0,0
END:VEVENT
BEGIN:VTIMEZONE
TZID:Europe/Vienna
X-LIC-LOCATION:Europe/Vienna
BEGIN:DAYLIGHT
DTSTART:20250330T030000
TZOFFSETFROM:+0100
TZOFFSETTO:+0200
TZNAME:CEST
END:DAYLIGHT
END:VTIMEZONE
END:VCALENDAR