BEGIN:VCALENDAR
VERSION:2.0
PRODID:-//wp-events-plugin.com//6.4.7.2//EN
TZID:Europe/Vienna
X-WR-TIMEZONE:Europe/Vienna
BEGIN:VEVENT
UID:364@bgld-bildungswerk.at
DTSTART;TZID=Europe/Vienna:20260307T093000
DTEND;TZID=Europe/Vienna:20260307T123000
DTSTAMP:20251218T094646Z
URL:https://www.bgld-bildungswerk.at/events/kommunikation-rhetorik-2/
SUMMARY:Kommunikation & Rhetorik
DESCRIPTION:Ob im Verein\, im Unternehmen oder bei öffentlichen Auftritten
 : deine Wirkung entscheidet.\n\nPräsentieren und überzeugen bedeutet\, B
 otschaften so zu platzieren\, dass sie verstanden\, gefühlt und erinnert 
 werden. Dabei spielen Stimme\, Körpersprache\, Rhetorik und Kommunikation
  zusammen.\n\nIn dem angebotenen Seminar lernst du\, wie du Klarheit\, Str
 uktur und Wirkung kombinierst – und die Botschaft deines Vereins nachhal
 tig verankerst.\n\nReferentin: Trainerin von "sozusagen - die Stimme im Ve
 rkauf"\n\n&nbsp\;
ATTACH;FMTTYPE=image/jpeg:https://www.bgld-bildungswerk.at/wp-content/uplo
 ads/2025/09/Vereinsakademie-1.jpg
CATEGORIES:Digitale Bildung,Vereinsakademie
LOCATION:Mehrzweckhalle der Kultur- und Sporthalle\, Schulgasse 26 \, 2443 
 Leithaprodersdorf\, Österreich
X-APPLE-STRUCTURED-LOCATION;VALUE=URI;X-ADDRESS=Schulgasse 26 \, 2443 Leith
 aprodersdorf\, Österreich;X-APPLE-RADIUS=100;X-TITLE=Mehrzweckhalle der K
 ultur- und Sporthalle:geo:0,0
END:VEVENT
BEGIN:VTIMEZONE
TZID:Europe/Vienna
X-LIC-LOCATION:Europe/Vienna
BEGIN:STANDARD
DTSTART:20251026T020000
TZOFFSETFROM:+0200
TZOFFSETTO:+0100
TZNAME:CET
END:STANDARD
END:VTIMEZONE
END:VCALENDAR