BEGIN:VCALENDAR
VERSION:2.0
PRODID:-//wp-events-plugin.com//6.4.7.2//EN
TZID:Europe/Vienna
X-WR-TIMEZONE:Europe/Vienna
BEGIN:VEVENT
UID:349@bgld-bildungswerk.at
DTSTART;TZID=Europe/Vienna:20251215T190000
DTEND;TZID=Europe/Vienna:20251215T200000
DTSTAMP:20250930T082837Z
URL:https://www.bgld-bildungswerk.at/events/jetzt-kenn-i-mi-aus-wie-ki-uns
 ere-meinung-beeinflussen-kann/
SUMMARY:Jetzt kenn i mi aus! Wie KI unsere Meinung beeinflussen kann
DESCRIPTION:Die Veranstaltung findet ONLINE statt. Zugangsdaten werden am T
 ag des Vortrages via E-mail übermittelt.\n\nReferent: Mag. David Röthler
 \n\nEine Kooperationsveranstaltung des Bgld. Bildungswerk mit kabelplus un
 d dem BhW NÖ.\n\nKünstliche Intelligenz (KI) birgt ein enormes Potenzial
 \, doch sie kann auch Vorurteile übernehmen und verstärken. Dieser Vortr
 ag beleuchtet kritisch\, wie KI unsere Meinungsbildung beeinflussen kann.\
 nWir werden gemeinsam untersuchen\, wie diese Mechanismen funktionieren un
 d welche Auswirkungen sie auf unsere Gesellschaft haben können. Ein zentr
 aler Bestandteil des Vortrags ist die Frage: Wie lassen sich solche algori
 thmischen Verzerrungen erkennen? Und noch wichtiger: Was können wir als E
 inzelne und als Gesellschaft tun\, um ihnen entgegenzuwirken? Wir diskutie
 ren Strategien\, um die Funktionsweise von KI-Systemen besser zu durchscha
 uen und Möglichkeiten zu finden\, ihren potenziell negativen Einfluss zu 
 umgehen oder zu mindern. Letztendlich kann KI dazu beitragen unsere Welt b
 esser zu verstehen\, Vorurteile zu erkennen und sich aktiv einzubringen.\n
 \nZielgruppe sind alle Erwachsenen\, die ihr digitales Wissen erweitern wo
 llen.
ATTACH;FMTTYPE=image/jpeg:https://www.bgld-bildungswerk.at/wp-content/uplo
 ads/2024/08/Figur_Frau.jpg
CATEGORIES:Digitale Bildung,Weitere Bildungsangebote
LOCATION:ONLINE\,  Online\,  ZOOM Meeting\, Österreich
X-APPLE-STRUCTURED-LOCATION;VALUE=URI;X-ADDRESS= Online\,  ZOOM Meeting\, 
 Österreich;X-APPLE-RADIUS=100;X-TITLE=ONLINE:geo:0,0
END:VEVENT
BEGIN:VTIMEZONE
TZID:Europe/Vienna
X-LIC-LOCATION:Europe/Vienna
BEGIN:STANDARD
DTSTART:20251026T020000
TZOFFSETFROM:+0200
TZOFFSETTO:+0100
TZNAME:CET
END:STANDARD
END:VTIMEZONE
END:VCALENDAR