BEGIN:VCALENDAR
VERSION:2.0
PRODID:-//wp-events-plugin.com//6.4.7.2//EN
TZID:Europe/Vienna
X-WR-TIMEZONE:Europe/Vienna
BEGIN:VEVENT
UID:292@bgld-bildungswerk.at
DTSTART;TZID=Europe/Vienna:20250616T170000
DTEND;TZID=Europe/Vienna:20250616T190000
DTSTAMP:20250303T144609Z
URL:https://www.bgld-bildungswerk.at/events/jetzt-kenn-i-mi-aus-kuenstlich
 e-intelligenz-und-datenschutz-wie-sicher-sind-unsere-daten/
SUMMARY:Jetzt kenn i mi aus! Künstliche Intelligenz und Datenschutz - Wie 
 sicher sind unsere Daten?
DESCRIPTION:Künstliche Intelligenz (KI) und Datenschutz stehen in einem Sp
 annungsverhältnis. Während KI-Systeme große Datenmengen benötigen\, um
  effektiv zu lernen und zu funktionieren\, erfordert der Datenschutz eine 
 sorgfältige Handhabung personenbezogener Informationen.\nWir geben einen 
 praktischen Überblick über die Herausforderung für den Datenschutz\, ab
 er auch über Schutz- und Regulierungsmaßnahmen wie DSGVO\, AI-Act und M
 öglichkeiten Privatsphäre zu schützen.\n \nDie Veranstaltung findet ONL
 INE statt. Zugangsdaten werden am Tag des Vortrages via E-mail übermittel
 t.\n\nEine Kooperationsveranstaltung des Bgld. Bildungswerk mit kabelplus 
 und dem BhW NÖ.
ATTACH;FMTTYPE=image/jpeg:https://www.bgld-bildungswerk.at/wp-content/uplo
 ads/2024/08/Figur_Frau.jpg
CATEGORIES:Digitale Bildung
LOCATION:ONLINE\,  Online\,  ZOOM Meeting\, Österreich
X-APPLE-STRUCTURED-LOCATION;VALUE=URI;X-ADDRESS= Online\,  ZOOM Meeting\, 
 Österreich;X-APPLE-RADIUS=100;X-TITLE=ONLINE:geo:0,0
END:VEVENT
BEGIN:VTIMEZONE
TZID:Europe/Vienna
X-LIC-LOCATION:Europe/Vienna
BEGIN:DAYLIGHT
DTSTART:20250330T030000
TZOFFSETFROM:+0100
TZOFFSETTO:+0200
TZNAME:CEST
END:DAYLIGHT
END:VTIMEZONE
END:VCALENDAR