BEGIN:VCALENDAR
VERSION:2.0
PRODID:-//wp-events-plugin.com//6.4.7.2//EN
TZID:Europe/Vienna
X-WR-TIMEZONE:Europe/Vienna
BEGIN:VEVENT
UID:342@bgld-bildungswerk.at
DTSTART;TZID=Europe/Vienna:20250926T183000
DTEND;TZID=Europe/Vienna:20250926T203000
DTSTAMP:20250825T124452Z
URL:https://www.bgld-bildungswerk.at/events/herbstarbeiten-im-naturgarten/
SUMMARY:Herbstarbeiten im Naturgarten
DESCRIPTION:Herbst - Zeit\, um den Garten winterfest zu machen!\nin unserem
  praxisorientierten Vortrag mit "Natur im Garten Burgenland"-Expertin Andr
 ea Semper erhalten Sie wertvolle Tipps\, was im Garten jetzt getan werden 
 kann - und auch gelassen werden soll. Im Naturgarten gilt nämlich oft: We
 niger ist mehr.\n\nReferent: Andrea Semper\nDie Teilnahme ist kostenlos!\n
 \nDie Veranstaltung findet in Kooperation mit Grünzeug und Regionales und
  der Gemeinde Berndorf statt.
ATTACH;FMTTYPE=image/jpeg:https://www.bgld-bildungswerk.at/wp-content/uplo
 ads/2025/06/25-09-26-Bernstein-Website-Eintrag.jpg
CATEGORIES:Natur im Garten
LOCATION:Gasthaus Pannonia Roth\, Hauptstraße 58\, 7434 Bernstein\, Öster
 reich
X-APPLE-STRUCTURED-LOCATION;VALUE=URI;X-ADDRESS=Hauptstraße 58\, 7434 Bern
 stein\, Österreich;X-APPLE-RADIUS=100;X-TITLE=Gasthaus Pannonia Roth:geo:
 0,0
END:VEVENT
BEGIN:VTIMEZONE
TZID:Europe/Vienna
X-LIC-LOCATION:Europe/Vienna
BEGIN:DAYLIGHT
DTSTART:20250330T030000
TZOFFSETFROM:+0100
TZOFFSETTO:+0200
TZNAME:CEST
END:DAYLIGHT
END:VTIMEZONE
END:VCALENDAR