BEGIN:VCALENDAR
VERSION:2.0
PRODID:-//wp-events-plugin.com//6.4.7.2//EN
TZID:Europe/Vienna
X-WR-TIMEZONE:Europe/Vienna
BEGIN:VEVENT
UID:372@bgld-bildungswerk.at
DTSTART;TZID=Europe/Vienna:20251127T190000
DTEND;TZID=Europe/Vienna:20251127T204000
DTSTAMP:20251027T083846Z
URL:https://www.bgld-bildungswerk.at/events/brainfood-fuer-teenager/
SUMMARY:Brainfood für Teenager
DESCRIPTION:Ernährung für starke Nerven\, gute Laune &amp\; Konzentration
 \n\nDie Pubertät stellt Jugendliche vor vielfältige körperliche und psy
 chische Herausforderungen. Die richtige Ernährung kann dabei einen positi
 ven Einfluss auf Konzentration\, Stimmung und Leistungsfähigkeit haben.\n
 In diesem Vortrag erhalten sie wissenschaftlich fundierte Informationen so
 wie praxisnahe Anregungen dazu\, wie sich eine gehirngerechte Ernährung i
 m Familienalltag umsetzen lässt.\n\nReferentin: Sabrina Schöberl\, B.Sc.
ATTACH;FMTTYPE=image/jpeg:https://www.bgld-bildungswerk.at/wp-content/uplo
 ads/2025/10/Brainfood.jpg
CATEGORIES:Elternbildung
LOCATION:ONLINE\,  Online\,  ZOOM Meeting\, Österreich
X-APPLE-STRUCTURED-LOCATION;VALUE=URI;X-ADDRESS= Online\,  ZOOM Meeting\, 
 Österreich;X-APPLE-RADIUS=100;X-TITLE=ONLINE:geo:0,0
END:VEVENT
BEGIN:VTIMEZONE
TZID:Europe/Vienna
X-LIC-LOCATION:Europe/Vienna
BEGIN:STANDARD
DTSTART:20251026T020000
TZOFFSETFROM:+0200
TZOFFSETTO:+0100
TZNAME:CET
END:STANDARD
END:VTIMEZONE
END:VCALENDAR