BEGIN:VCALENDAR
VERSION:2.0
PRODID:-//wp-events-plugin.com//6.4.7.2//EN
TZID:Europe/Vienna
X-WR-TIMEZONE:Europe/Vienna
BEGIN:VEVENT
UID:288@bgld-bildungswerk.at
DTSTART;TZID=Europe/Vienna:20250614T080000
DTEND;TZID=Europe/Vienna:20250614T150000
DTSTAMP:20250226T104734Z
URL:https://www.bgld-bildungswerk.at/events/aufsichtspflicht-tagesseminar/
SUMMARY:"Aufsichtspflicht" - Tagesseminar
DESCRIPTION:Kinder brauchen Freiräume\, um sich spielerisch zu entwickeln\
 , ihre Umwelt zu entdecken und ihre individuellen Fähigkeiten zu entfalte
 n – ohne ständige elterliche Überwachung. Gleichzeitig bleibt die gese
 tzlich verankerte Aufsichtspflicht ein zentraler Aspekt der elterlichen Ve
 rantwortung.\n\nIn diesem Seminar setzen wir uns damit auseinander\, wie d
 iese Aufsichtspflicht konkret ausgestaltet ist\, welche potenziellen Gefah
 renquellen im Alltag – auch außerhalb der direkten Aufsicht – berück
 sichtigt werden sollten und warum eine aktive Beteiligung am Schulleben vo
 n großer Bedeutung ist.\n\nDas Tagesseminar kombiniert theoretische Impul
 se mit interaktiven Übungen\, um das eigene Verantwortungsbewusstsein zu 
 reflektieren und Vertrauen in sich selbst sowie in andere zu stärken. Dab
 ei werden essenzielle Aspekte der kindlichen Selbstwirksamkeit\, des Selbs
 tvertrauens und des elterlichen Verantwortungsbewusstseins gezielt herausg
 earbeitet.\n\nSie sind zu diesem Seminar herzlich eingeladen.\n\nReferenti
 n: Michelle Kager
ATTACH;FMTTYPE=image/jpeg:https://www.bgld-bildungswerk.at/wp-content/uplo
 ads/2025/02/Aufsichtspflicht-1.jpg
CATEGORIES:Elternbildung
LOCATION:Städtischer Hort Oberwart\, Schulgasse 4\, Oberwart\, 7400\, Öst
 erreich
X-APPLE-STRUCTURED-LOCATION;VALUE=URI;X-ADDRESS=Schulgasse 4\, Oberwart\, 7
 400\, Österreich;X-APPLE-RADIUS=100;X-TITLE=Städtischer Hort Oberwart:ge
 o:0,0
END:VEVENT
BEGIN:VTIMEZONE
TZID:Europe/Vienna
X-LIC-LOCATION:Europe/Vienna
BEGIN:DAYLIGHT
DTSTART:20250330T030000
TZOFFSETFROM:+0100
TZOFFSETTO:+0200
TZNAME:CEST
END:DAYLIGHT
END:VTIMEZONE
END:VCALENDAR